BEGIN:VCALENDAR
VERSION:2.0
PRODID:-//Plan 4 Children - ECPv6.15.18//NONSGML v1.0//EN
CALSCALE:GREGORIAN
METHOD:PUBLISH
X-WR-CALNAME:Plan 4 Children
X-ORIGINAL-URL:https://plan4children.org
X-WR-CALDESC:Events for Plan 4 Children
REFRESH-INTERVAL;VALUE=DURATION:PT1H
X-Robots-Tag:noindex
X-PUBLISHED-TTL:PT1H
BEGIN:VTIMEZONE
TZID:America/New_York
BEGIN:DAYLIGHT
TZOFFSETFROM:-0500
TZOFFSETTO:-0400
TZNAME:EDT
DTSTART:20220313T070000
END:DAYLIGHT
BEGIN:STANDARD
TZOFFSETFROM:-0400
TZOFFSETTO:-0500
TZNAME:EST
DTSTART:20221106T060000
END:STANDARD
BEGIN:DAYLIGHT
TZOFFSETFROM:-0500
TZOFFSETTO:-0400
TZNAME:EDT
DTSTART:20230312T070000
END:DAYLIGHT
BEGIN:STANDARD
TZOFFSETFROM:-0400
TZOFFSETTO:-0500
TZNAME:EST
DTSTART:20231105T060000
END:STANDARD
BEGIN:DAYLIGHT
TZOFFSETFROM:-0500
TZOFFSETTO:-0400
TZNAME:EDT
DTSTART:20240310T070000
END:DAYLIGHT
BEGIN:STANDARD
TZOFFSETFROM:-0400
TZOFFSETTO:-0500
TZNAME:EST
DTSTART:20241103T060000
END:STANDARD
END:VTIMEZONE
BEGIN:VEVENT
DTSTART;TZID=America/New_York:20230313T100000
DTEND;TZID=America/New_York:20230313T110000
DTSTAMP:20260423T061909
CREATED:20210903T161038Z
LAST-MODIFIED:20240207T233727Z
UID:10000468-1678701600-1678705200@plan4children.org
SUMMARY:Family Care Connections
DESCRIPTION:The Family Care Connections workgroup designs Family Care Connections that prioritize family and youth voice and choice in the development and implementation of an individualized and coordinated plan of care that includes pediatric primary care\, schools\, and behavioral health in order to support and enhance the social\, emotional\, and physical health of children\, youth\, and their families. \n\n\n\nDesignated meeting time: Second Monday of every month | 10:00 – 11:00 am \n\n\n\nWorkgroup chair: Daniela Giordano\, LMSW\, Beacon Health Options
URL:https://plan4children.org/event/family-care-connections/2023-03-13/
CATEGORIES:Connecting to Care,Workgroup Meetings
ATTACH;FMTTYPE=image/png:https://plan4children.org/wp-content/uploads/2021/09/p4c_logos-_0000_ConneCTing_logo.png
ORGANIZER;CN="Daniela Giordano":MAILTO:daniela.giordano@beaconhealthoptions.com
END:VEVENT
BEGIN:VEVENT
DTSTART;TZID=America/New_York:20230313T130000
DTEND;TZID=America/New_York:20230313T150000
DTSTAMP:20260423T061909
CREATED:20230308T203039Z
LAST-MODIFIED:20230309T153719Z
UID:10000896-1678712400-1678719600@plan4children.org
SUMMARY:Children's Behavioral Health Plan Implementation Advisory Board (CBHIAB)
DESCRIPTION:A meeting of the Children’s Behavioral Health Plan Implementation Advisory Board (CBHIAB). The meeting is open to the public. View a list of the current advisory board members. \n\n\n\nFor more information please contract Frank Gregory (francis.gregory@ct.gov) or Yvette Cortez (yvette.cortez@ct.gov)
URL:https://plan4children.org/event/childrens-behavioral-health-plan-implementation-advisory-board-cbhiab/
LOCATION:Location TBD
END:VEVENT
END:VCALENDAR