BEGIN:VCALENDAR
VERSION:2.0
PRODID:-//Plan 4 Children - ECPv6.15.18//NONSGML v1.0//EN
CALSCALE:GREGORIAN
METHOD:PUBLISH
X-ORIGINAL-URL:https://plan4children.org
X-WR-CALDESC:Events for Plan 4 Children
REFRESH-INTERVAL;VALUE=DURATION:PT1H
X-Robots-Tag:noindex
X-PUBLISHED-TTL:PT1H
BEGIN:VTIMEZONE
TZID:America/New_York
BEGIN:DAYLIGHT
TZOFFSETFROM:-0500
TZOFFSETTO:-0400
TZNAME:EDT
DTSTART:20210314T070000
END:DAYLIGHT
BEGIN:STANDARD
TZOFFSETFROM:-0400
TZOFFSETTO:-0500
TZNAME:EST
DTSTART:20211107T060000
END:STANDARD
BEGIN:DAYLIGHT
TZOFFSETFROM:-0500
TZOFFSETTO:-0400
TZNAME:EDT
DTSTART:20220313T070000
END:DAYLIGHT
BEGIN:STANDARD
TZOFFSETFROM:-0400
TZOFFSETTO:-0500
TZNAME:EST
DTSTART:20221106T060000
END:STANDARD
BEGIN:DAYLIGHT
TZOFFSETFROM:-0500
TZOFFSETTO:-0400
TZNAME:EDT
DTSTART:20230312T070000
END:DAYLIGHT
BEGIN:STANDARD
TZOFFSETFROM:-0400
TZOFFSETTO:-0500
TZNAME:EST
DTSTART:20231105T060000
END:STANDARD
END:VTIMEZONE
BEGIN:VEVENT
DTSTART;TZID=America/New_York:20221223T123000
DTEND;TZID=America/New_York:20221223T140000
DTSTAMP:20260421T091504
CREATED:20210903T181337Z
LAST-MODIFIED:20240207T232718Z
UID:10000689-1671798600-1671804000@plan4children.org
SUMMARY:Culturally and Linguistically Appropriate Services (CLAS)/Racial Justice
DESCRIPTION:The Family Care Connections workgroup supports the development of Family Care Connections\, which are designed to center youth and family voice and choice in the development and implementation of an individualized and coordinated plan of care that includes primary care\, schools and behavioral health and has the goal of supporting and enhancing the social\, emotional and physical health of children\, youth and their families. \n\n\n\nDesignated meeting time: Fourth Friday of every month | 12:30 – 2:00 pm \n\n\n\nWorkgroup chair: Lisa Palazzo\, LCSW\, Beacon Health Options
URL:https://plan4children.org/event/culturally-and-linguistically-appropriate-services-clas-racial-justice/2022-12-23/
CATEGORIES:Connecting to Care,Workgroup Meetings
ATTACH;FMTTYPE=image/png:https://plan4children.org/wp-content/uploads/2021/09/p4c_logos-_0000_ConneCTing_logo.png
ORGANIZER;CN="Lisa Palazzo":MAILTO:lisa.palazzo@beaconhealthoptions.com
END:VEVENT
END:VCALENDAR